BEGIN:VCALENDAR
PRODID:-//eluceo/ical//2.0/EN
VERSION:2.0
CALSCALE:GREGORIAN
BEGIN:VEVENT
UID:16f06646a6f06eac3186ed301ae42ab3
DTSTAMP:20260425T115755Z
SUMMARY:The Gallery at the J  - The Gallery at the J 
DESCRIPTION:UJA Federation of Greater Toronto\nJewish Toronto Calendar\nhtt
 ps://jewishtoronto.com/calendar/the-gallery-at-the-j\n\nThe Gallery at the
  J\nI Work Here\nPhotography by Benjamin Rondel\nMay 21 – June 28\nThe e
 xhibition depicts obscured places of work in Belgium\, Canada\, Cuba and t
 he UK.\nA Scotiabank CONTACT Photography Festival exhibit.\nInfo: deannad@
 mnjcc.org (416) 924-6211 x 250\n 
DTSTART;TZID=America/Toronto:20150521T090000
DTEND;TZID=America/Toronto:20150521T220000
END:VEVENT
END:VCALENDAR
