BEGIN:VCALENDAR
PRODID:-//eluceo/ical//2.0/EN
VERSION:2.0
CALSCALE:GREGORIAN
BEGIN:VEVENT
UID:28c6d0a046a553f9c6a5e957e96a7326
DTSTAMP:20260421T193702Z
SUMMARY:The Future of Hillel Ontario
DESCRIPTION:UJA Federation of Greater Toronto\nJewish Toronto Calendar\nhtt
 ps://jewishtoronto.com/calendar/the-future-of-hillel-ontario-1475083235\n\
 nA panel discussion on our community's shared vision for the future of the
  new Hillel Ontario. Hosted by Honey and Barry Sherman\, speakers will fea
 ture:\nAdam Minsky\, President and CEO\, UJA Federation\nShimon Fogel\, CE
 O\, CIJA\nEric Fingerhut\, President and CEO of Hillel International\nMarc
  Newburgh\, CEO\, Hillel Ontario
DTSTART;TZID=America/Toronto:20161108T190000
DTEND;TZID=America/Toronto:20161108T213000
END:VEVENT
END:VCALENDAR
