BEGIN:VCALENDAR
PRODID:-//eluceo/ical//2.0/EN
VERSION:2.0
CALSCALE:GREGORIAN
BEGIN:VEVENT
UID:05bcfb9fa7ae26b8f7b26d092660026b
DTSTAMP:20260422T144014Z
SUMMARY:The Founding Fathers of Torah Education in America
DESCRIPTION:UJA Federation of Greater Toronto\nJewish Toronto Calendar\nhtt
 ps://jewishtoronto.com/calendar/the-founding-fathers-of-torah-education-in
 -america-1574364453\n\nWith Rabbi Dr. Aaron Adler
DTSTART;TZID=America/Toronto:20191130T191500
DTEND;TZID=America/Toronto:20191130T211500
END:VEVENT
END:VCALENDAR
