BEGIN:VCALENDAR
PRODID:-//eluceo/ical//2.0/EN
VERSION:2.0
CALSCALE:GREGORIAN
BEGIN:VEVENT
UID:0c39631919c2e080d22e2a52a2457bff
DTSTAMP:20260420T215254Z
SUMMARY:"The Essential Link" Q&A with Israeli Director Yonatan Nir
DESCRIPTION:UJA Federation of Greater Toronto\nJewish Toronto Calendar\nhtt
 ps://jewishtoronto.com/calendar/the-essential-link-qa-with-israeli-directo
 r-yonatan-nir-1611329543\n\nThe Consulate General of Israel in Toronto & W
 estern Canada is pleased to announce the screening of The Essential Link: 
 The Story of Wilfrid Israel in commemoration of International Holocaust Re
 membrance Day\, as well as the participation of internationally-acclaimed 
 filmmaker Yonatan Nir in an exclusive moderated webinar.
DTSTART;TZID=America/Toronto:20210203T190000
DTEND;TZID=America/Toronto:20210203T213000
END:VEVENT
END:VCALENDAR
