BEGIN:VCALENDAR
PRODID:-//eluceo/ical//2.0/EN
VERSION:2.0
CALSCALE:GREGORIAN
BEGIN:VEVENT
UID:c24600ce1a10a5ef9d54321c362b6e7d
DTSTAMP:20260425T115655Z
SUMMARY:The Deli Man Cometh Part I
DESCRIPTION:UJA Federation of Greater Toronto\nJewish Toronto Calendar\nhtt
 ps://jewishtoronto.com/calendar/the-deli-man-cometh-part-i-1493650954\n\nP
 art I: Thursday May 11 - Film Screening of Deli Man\nPart II: Thursday May
  18 – Lecture about the history of Deli with Michael Wex.\n\n
DTSTART;TZID=America/Toronto:20170511T130000
DTEND;TZID=America/Toronto:20170511T150000
END:VEVENT
END:VCALENDAR
