BEGIN:VCALENDAR
PRODID:-//eluceo/ical//2.0/EN
VERSION:2.0
CALSCALE:GREGORIAN
BEGIN:VEVENT
UID:d36af3b16ed9de1fc9fe0a0cdd646f68
DTSTAMP:20260422T165433Z
SUMMARY:The December Project with Rabbi Shalom Schachter and Sara Davidson
DESCRIPTION:UJA Federation of Greater Toronto\nJewish Toronto Calendar\nhtt
 ps://jewishtoronto.com/calendar/the-december-project-with-rabbi-shalom-sch
 achter-and-sara-davidson-1455203173\n\nTuesday\, May 3 Beth Tzedec Congreg
 ation Presents The December Project with Rabbi Shalom Schachter and Sara D
 avidson. Discussion on life\, death and Rav Zalman’s spiritual insights\
 , moderated by Rabbi Frydman-Kohl. 7:30 pm Free but RSVP 416-781-3511.
DTSTART;TZID=America/Toronto:20160503T193000
DTEND;TZID=America/Toronto:20160503T220000
END:VEVENT
END:VCALENDAR
