BEGIN:VCALENDAR
PRODID:-//eluceo/ical//2.0/EN
VERSION:2.0
CALSCALE:GREGORIAN
BEGIN:VEVENT
UID:fe8d86f2e8b0287f1d527ad260d7145b
DTSTAMP:20260424T003946Z
SUMMARY:The Day Trips in Jewish History
DESCRIPTION:UJA Federation of Greater Toronto\nJewish Toronto Calendar\nhtt
 ps://jewishtoronto.com/calendar/the-day-trips-in-jewish-history\n\nDay Tri
 ps in Jewish History with Hana Werner. Series of five lectures\, Part 5. E
 zra the Scribe: The Architect of a Nation. According to the Sages\, if Mos
 es had not received the Torah\, Ezrah would be deserving of this honor. Wh
 at were his historic decisions?
DTSTART;TZID=America/Toronto:20140528T133000
DTEND;TZID=America/Toronto:20140528T153000
END:VEVENT
END:VCALENDAR
