BEGIN:VCALENDAR
PRODID:-//eluceo/ical//2.0/EN
VERSION:2.0
CALSCALE:GREGORIAN
BEGIN:VEVENT
UID:7342952f10831fa51508a73be0f7fb8a
DTSTAMP:20260420T011443Z
SUMMARY:The Da Vinci Gala 
DESCRIPTION:UJA Federation of Greater Toronto\nJewish Toronto Calendar\nhtt
 ps://jewishtoronto.com/calendar/the-da-vinci-gala-mount-sinai-hospital-fou
 ndation\n\nThe Da Vinci Gala - Mount Sinai Hospital Foundation
DTSTART;TZID=America/Toronto:20150527T190000
DTEND;TZID=America/Toronto:20150527T210000
END:VEVENT
END:VCALENDAR
