BEGIN:VCALENDAR
PRODID:-//eluceo/ical//2.0/EN
VERSION:2.0
CALSCALE:GREGORIAN
BEGIN:VEVENT
UID:15e1e42aa3942b54f56339b15d5b1282
DTSTAMP:20260424T082543Z
SUMMARY:The Da Vinci Gala
DESCRIPTION:UJA Federation of Greater Toronto\nJewish Toronto Calendar\nhtt
 ps://jewishtoronto.com/calendar/the-da-vinci-gala-1455139402\n\nThe Da Vin
 ci Gala is a fundraising event for thyroid cancer care and research with e
 vent proceeds supporting the Joseph and Mildred Sonshine Family Centre for
  Head and Neck Diseases. Highlights include open martini bar\, cocktails\,
  dinner\, silent auction\, musical entertainment and dancing.
DTSTART;TZID=America/Toronto:20160615T180000
DTEND;TZID=America/Toronto:20160615T223000
END:VEVENT
END:VCALENDAR
