BEGIN:VCALENDAR
PRODID:-//eluceo/ical//2.0/EN
VERSION:2.0
CALSCALE:GREGORIAN
BEGIN:VEVENT
UID:6c9a4011c545555ae860344b625340a9
DTSTAMP:20260421T013320Z
SUMMARY:The Corners of our Fields: Jewish Farming in Ontario
DESCRIPTION:UJA Federation of Greater Toronto\nJewish Toronto Calendar\nhtt
 ps://jewishtoronto.com/calendar/the-corners-of-our-fields-jewish-farming-i
 n-ontario-1475266182\n\nArchival photos in the Gallery.\nOrganized by the 
 Ontario Jewish Archives\, Blankenstein Family Heritage Centre and Shoresh 
 Immigration schemes to environmental ethics - explore the untold story of 
 Jewish farming in Ontario past and present in this photo exhibit by the OJ
 A and Shoresh.
DTSTART;TZID=America/Toronto:20161006T090000
DTEND;TZID=America/Toronto:20161030T170000
END:VEVENT
END:VCALENDAR
