BEGIN:VCALENDAR
PRODID:-//eluceo/ical//2.0/EN
VERSION:2.0
CALSCALE:GREGORIAN
BEGIN:VEVENT
UID:61b453c5c270c3fab82d8cffeb36e2eb
DTSTAMP:20260421T170128Z
SUMMARY:The Canadian Shaare Zedek Hospital Foundation Top Pair Tourney
DESCRIPTION:UJA Federation of Greater Toronto\nJewish Toronto Calendar\nhtt
 ps://jewishtoronto.com/calendar/the-canadian-shaare-zedek-hospital-foundat
 ion-top-pair-tourney\n\nThe Canadian Shaare Zedek Hospital Foundation Top 
 Pair Poker Tourney 3rd Annual Tournament
DTSTART;TZID=America/Toronto:20190126T193000
DTEND;TZID=America/Toronto:20190126T213000
END:VEVENT
END:VCALENDAR
