BEGIN:VCALENDAR
PRODID:-//eluceo/ical//2.0/EN
VERSION:2.0
CALSCALE:GREGORIAN
BEGIN:VEVENT
UID:da6e315b60066512ad1e518bc78d80d8
DTSTAMP:20260425T165101Z
SUMMARY:The Canadian Shaare Zedek - Crowdfunding Campaign
DESCRIPTION:UJA Federation of Greater Toronto\nJewish Toronto Calendar\nhtt
 ps://jewishtoronto.com/calendar/the-canadian-shaare-zedek---crowdfunding-c
 ampaign-1654653489\n\n24 Hour Crowdfunding event and telethon
DTSTART;TZID=America/Toronto:20221120T090000
DTEND;TZID=America/Toronto:20221121T210000
END:VEVENT
END:VCALENDAR
