BEGIN:VCALENDAR
PRODID:-//eluceo/ical//2.0/EN
VERSION:2.0
CALSCALE:GREGORIAN
BEGIN:VEVENT
UID:d28b1faf3cda882fc4cfb19584126dab
DTSTAMP:20260419T125816Z
SUMMARY:The Canadian Shaare Zedek - Crowd Funding Campaign
DESCRIPTION:UJA Federation of Greater Toronto\nJewish Toronto Calendar\nhtt
 ps://jewishtoronto.com/calendar/the-canadian-shaare-zedek---crowd-funding-
 campaign-1625777861\n\n24 Hour Crowdfunding event and telethon
DTSTART;TZID=America/Toronto:20211107T120000
DTEND;TZID=America/Toronto:20211108T120000
END:VEVENT
END:VCALENDAR
