BEGIN:VCALENDAR
PRODID:-//eluceo/ical//2.0/EN
VERSION:2.0
CALSCALE:GREGORIAN
BEGIN:VEVENT
UID:d619c8d3810f83f223c814b94bcab43d
DTSTAMP:20260420T184740Z
SUMMARY:The Book Smugglers
DESCRIPTION:UJA Federation of Greater Toronto\nJewish Toronto Calendar\nhtt
 ps://jewishtoronto.com/calendar/the-book-smugglers-1538699504\n\nThe Book 
 Smugglers: Partisans\, Poets and the Race to Save Jewish Treasures from th
 e Nazis with Dr. David E. Fishman\, professor of Jewish History at the Jew
 ish Theological Seminary.\n\nThe story of The Book Smugglers began 25 year
 s ago when Dr. Fishman was invited to consult on items discovered in a for
 mer church in Vilnius. It illuminates the little known saga of the courage
 ous efforts to save the precious libraries and archives of the Jews of Eas
 tern Europe.
DTSTART;TZID=America/Toronto:20181106T193000
DTEND;TZID=America/Toronto:20181106T213000
END:VEVENT
END:VCALENDAR
