BEGIN:VCALENDAR
PRODID:-//eluceo/ical//2.0/EN
VERSION:2.0
CALSCALE:GREGORIAN
BEGIN:VEVENT
UID:46296f80bbeed688b6392f7f2d7cb921
DTSTAMP:20260424T135620Z
SUMMARY:The B&O Yorkville Run
DESCRIPTION:UJA Federation of Greater Toronto\nJewish Toronto Calendar\nhtt
 ps://jewishtoronto.com/calendar/the-bo-yorkville-run-1532619960\n\nThe B&O
  Yorkville Run race takes place on September 9\, 2018. Guntime is 9:45 AM.
  Starting point is Jesse Ketchum Public School at 61 Davenport Road\n\nThe
  B&O Yorkville Run is a premier\, boutique\, 5K race that takes place in t
 he beautiful Yorkville community every September. It unites elite and loca
 l runners and businesses to raise funds for local programs and initiatives
  including Sinai Health Foundation. In addition to its fundraising achieve
 ments\, the B&O Yorkville Run was named Canada's f...
DTSTART;TZID=America/Toronto:20180909T090000
DTEND;TZID=America/Toronto:20180909T110000
END:VEVENT
END:VCALENDAR
