BEGIN:VCALENDAR
PRODID:-//eluceo/ical//2.0/EN
VERSION:2.0
CALSCALE:GREGORIAN
BEGIN:VEVENT
UID:73fd52e7a4057e4f77c38a6c6734722a
DTSTAMP:20260426T021531Z
SUMMARY:The B&O Yorkville Run
DESCRIPTION:UJA Federation of Greater Toronto\nJewish Toronto Calendar\nhtt
 ps://jewishtoronto.com/calendar/the-bo-yorkville-run-1489592066\n\nThe B&O
  Yorkville Run is a premier\, boutique\, 5K race that unites local runners
  and businesses to raise funds for local charities. The run provides a lux
 urious experience to its 1\,000 participants — from its high-end race ki
 t\, to its customized finishers medals and après-run hors d'oeuvres serve
 d by white-gloved waiters\, courtesy of Yorkville restaurants.\n\nFundrais
 e for Sinai Health Foundation as part of the B&O Yorkville Run. By support
 ing the Sinai Fund\, you are helping clinicians prov...
DTSTART;TZID=America/Toronto:20170910T094500
DTEND;TZID=America/Toronto:20170910T130000
END:VEVENT
END:VCALENDAR
