BEGIN:VCALENDAR
PRODID:-//eluceo/ical//2.0/EN
VERSION:2.0
CALSCALE:GREGORIAN
BEGIN:VEVENT
UID:a6de837fdcec1a18e95cd30b5c9e0808
DTSTAMP:20260420T131848Z
SUMMARY:The Biblical Roots of our Divided Society
DESCRIPTION:UJA Federation of Greater Toronto\nJewish Toronto Calendar\nhtt
 ps://jewishtoronto.com/calendar/the-biblical-roots-of-our-divided-society-
 1551121558\n\nJudith Klitsner\, contemporary Bible scholar\, author and in
 ternational speaker: We will examine several sibling-centered stories in t
 he book of Genesis\, noting a recurring\, dangerous tendency toward inatte
 ntive\, one-sided conversation. We will draw a line from these narratives 
 to the Jewish people today\, noting the enduring nature of diminished comm
 unication among opponents\, and the resulting increase in fractiousness. I
 n our explorations\, we will encounter signs of hope for repair. $10 at th
 e...
DTSTART;TZID=America/Toronto:20190401T193000
DTEND;TZID=America/Toronto:20190401T213000
END:VEVENT
END:VCALENDAR
