BEGIN:VCALENDAR
PRODID:-//eluceo/ical//2.0/EN
VERSION:2.0
CALSCALE:GREGORIAN
BEGIN:VEVENT
UID:bc256d3d150e516e1273a385782c92cb
DTSTAMP:20260424T120502Z
SUMMARY:The Bialik Games
DESCRIPTION:UJA Federation of Greater Toronto\nJewish Toronto Calendar\nhtt
 ps://jewishtoronto.com/calendar/the-bialik-games-1678723357\n\nBialik Scho
 ol Community fundraising event
DTSTART;TZID=America/Toronto:20230528T100000
DTEND;TZID=America/Toronto:20230528T140000
END:VEVENT
END:VCALENDAR
