BEGIN:VCALENDAR
PRODID:-//eluceo/ical//2.0/EN
VERSION:2.0
CALSCALE:GREGORIAN
BEGIN:VEVENT
UID:5bd6a2402bf098837f331eeb9cabd298
DTSTAMP:20260420T093403Z
SUMMARY:The Beth Emeth Players presents Les Miz Gilla According to Judge Ju
 dy!
DESCRIPTION:UJA Federation of Greater Toronto\nJewish Toronto Calendar\nhtt
 ps://jewishtoronto.com/calendar/the-beth-emeth-players-presents-les-miz-gi
 lla-according-to-judge-judy-1\n\nThe Beth Emeth Players present the Purim 
 Spieler...\nLes Miz Gilla According to Judge Judy!  \n\nTickets on Sale n
 ow! Call the office to purchase.\n\nTwo performances:\nWednesday March 4th
  following the Megillah Reading at 6:30 pm \n\nSunday\, March 8th at 1:30
  pm\n\nTickets $5 pp or family price of $20 (2 adults - 3 children)
DTSTART;TZID=America/Toronto:20150308T133000
DTEND;TZID=America/Toronto:20150308T143000
END:VEVENT
END:VCALENDAR
