BEGIN:VCALENDAR
PRODID:-//eluceo/ical//2.0/EN
VERSION:2.0
CALSCALE:GREGORIAN
BEGIN:VEVENT
UID:3b195b884a9e24081634f98dcb69f293
DTSTAMP:20260421T124816Z
SUMMARY:The Art of Attention
DESCRIPTION:UJA Federation of Greater Toronto\nJewish Toronto Calendar\nhtt
 ps://jewishtoronto.com/calendar/the-art-of-attention-1556550998\n\nPresent
 ed by Yael Man Shahar\n\nIn the distracting age of smart devices how do yo
 u regain the attention of  others?\nThe Art of Attention will provide you 
 with both the tools and the knowledge to regain the attention of others.\n
 \nRSVP by May 8\, 2019\n\n
DTSTART;TZID=America/Toronto:20190515T193000
DTEND;TZID=America/Toronto:20190515T213000
END:VEVENT
END:VCALENDAR
