BEGIN:VCALENDAR
PRODID:-//eluceo/ical//2.0/EN
VERSION:2.0
CALSCALE:GREGORIAN
BEGIN:VEVENT
UID:e28bb0b48a2543554ad1057175828052
DTSTAMP:20260419T220148Z
SUMMARY:The Angels Gripped by Fear & Trembling
DESCRIPTION:UJA Federation of Greater Toronto\nJewish Toronto Calendar\nhtt
 ps://jewishtoronto.com/calendar/the-angels-gripped-by-fear--trembling-1503
 666930\n\nRabbi Yael Splansky\nTuesday\, September 12\, 2017\, 7:30 p.m. O
 ur High Holy Day liturgy is imposing and grand. It is intended to make us 
 feel both humbled and powerful\, small and significant. The language of tr
 ansgression and sin\, repentance and forgiveness seem more and more foreig
 n in today’s secular society\, yet this language of the human condition 
 continues to challenge us and the choices we make. Together we will consid
 er how the most troubling passages of our High Holy Day Machzor might...
DTSTART;TZID=America/Toronto:20170912T193000
DTEND;TZID=America/Toronto:20170912T210000
END:VEVENT
END:VCALENDAR
