BEGIN:VCALENDAR
PRODID:-//eluceo/ical//2.0/EN
VERSION:2.0
CALSCALE:GREGORIAN
BEGIN:VEVENT
UID:03e5c4a813327459a59823c7fcd7fb98
DTSTAMP:20260424T123715Z
SUMMARY:The Amazing Plastic Brain
DESCRIPTION:UJA Federation of Greater Toronto\nJewish Toronto Calendar\nhtt
 ps://jewishtoronto.com/calendar/the-amazing-plastic-brain\n\n~~The Amazing
  Plastic Brain\nGuest speaker Donald T. Stuss\, Ph.D.\, President and Scie
 ntific Director\, Ontario Brain Institute\nDiscover exciting news about ho
 w your brain works to help you adapt to cognitive changes that develop ove
 r a lifetime.\nGenerously sponsored by the Baycrest Speaker Series.\nThurs
 day March 12 | 1:30-3:00 pm\nDrop-in: $4\nInfo: lisar@mnjcc.org (416) 924-
 6211 x 155\n 
DTSTART;TZID=America/Toronto:20150312T133000
DTEND;TZID=America/Toronto:20150312T150000
END:VEVENT
END:VCALENDAR
