BEGIN:VCALENDAR
PRODID:-//eluceo/ical//2.0/EN
VERSION:2.0
CALSCALE:GREGORIAN
BEGIN:VEVENT
UID:dc6b2828bca7a65c31b85129bbfd5edd
DTSTAMP:20260423T160552Z
SUMMARY:The Amazing Israel Race
DESCRIPTION:UJA Federation of Greater Toronto\nJewish Toronto Calendar\nhtt
 ps://jewishtoronto.com/calendar/the-amazing-israel-race-138867\n\nThe Amaz
 ing Israel Race
DTSTART;TZID=America/Toronto:20150419T100000
DTEND;TZID=America/Toronto:20150419T170000
END:VEVENT
END:VCALENDAR
