BEGIN:VCALENDAR
PRODID:-//eluceo/ical//2.0/EN
VERSION:2.0
CALSCALE:GREGORIAN
BEGIN:VEVENT
UID:459af83f65d62e05eb2d10aa5a474263
DTSTAMP:20260424T103414Z
SUMMARY:The 11th Annual Real Estate Industry - Hold’em for Life Charity C
 hallenge
DESCRIPTION:UJA Federation of Greater Toronto\nJewish Toronto Calendar\nhtt
 ps://jewishtoronto.com/calendar/the-11th-annual-real-estate-industry-holde
 m-for-life-charity-challenge-1486498441\n\nthe 11th Annual Real Estate Ind
 ustry Hold’em for Life Charity Challenge will be held on Thursday\, Apri
 l 20\, 2017 at the Ritz Carlton hotel in Toronto. The event is a unique ev
 ening of fun and friendly competition that will be attended by over 400 to
 p executives from Canada’s leading real estate firms.\n\nThis unique and
  exciting event provides an atmosphere that is particularly conducive to n
 etworking.\n\nThe evening kicks off with a cocktail reception in the Ritz 
 Carlton Grand Foyer\, fol...
DTSTART;TZID=America/Toronto:20170420T173000
DTEND;TZID=America/Toronto:20170421T010000
END:VEVENT
END:VCALENDAR
