BEGIN:VCALENDAR
PRODID:-//eluceo/ical//2.0/EN
VERSION:2.0
CALSCALE:GREGORIAN
BEGIN:VEVENT
UID:4362c8b2694f15f150b3346b47ba4b4e
DTSTAMP:20260422T062803Z
SUMMARY:The  Song Shul's Community Concert
DESCRIPTION:UJA Federation of Greater Toronto\nJewish Toronto Calendar\nhtt
 ps://jewishtoronto.com/calendar/the--song-shuls-community-concert-15469554
 44\n\nCantor Simon Spiro and the Toronto Festival Singers UNPLUGGED!\nPop\
 , Broadway\, Opera\,Comedy - The Show you'd never expect!!\nFree admission
  - ticket required at http://www.songshul.com
DTSTART;TZID=America/Toronto:20190119T200000
DTEND;TZID=America/Toronto:20190119T220000
END:VEVENT
END:VCALENDAR
