BEGIN:VCALENDAR
PRODID:-//eluceo/ical//2.0/EN
VERSION:2.0
CALSCALE:GREGORIAN
BEGIN:VEVENT
UID:57492ee5fe8cde76e22748c87e1ae31b
DTSTAMP:20260419T195106Z
SUMMARY:Thanking the Toronto Police Service: A Community Event
DESCRIPTION:UJA Federation of Greater Toronto\nJewish Toronto Calendar\nhtt
 ps://jewishtoronto.com/calendar/thanking-the-toronto-police-service-a-comm
 unity-event-1702312913\n\nHelp us\, the Jewish community of Toronto\, say 
 thank you to the Toronto Police Service for all their efforts in keeping u
 s and our institutions safe. Special guest Hon. Michael Kerzner\, Solicito
 r General of Ontario\, whose portfolio includes policing\, will be in conv
 ersation with Rabbi Steve Wernick\, followed by a presentation of gratitud
 e to the police.\n\nNo charge\, but RSVPs required. To register\, visit ht
 tps://bit.ly/thanking-tps\n\nPresented Beth Tzedec Congregation\, Beth Sho
 lom...
DTSTART;TZID=America/Toronto:20231212T190000
DTEND;TZID=America/Toronto:20231212T210000
END:VEVENT
END:VCALENDAR
