BEGIN:VCALENDAR
PRODID:-//eluceo/ical//2.0/EN
VERSION:2.0
CALSCALE:GREGORIAN
BEGIN:VEVENT
UID:53063673d059ee2b236c393fdb548ff5
DTSTAMP:20260426T004841Z
SUMMARY:Textual Activism An evening with Rabbi Mike Moskowitz
DESCRIPTION:UJA Federation of Greater Toronto\nJewish Toronto Calendar\nhtt
 ps://jewishtoronto.com/calendar/textual-activism-an-evening-with-rabbi-mik
 e-moskowitz-1570193973\n\nJoin in honest and uplifting conversation with R
 abbi Mike Moskowitz\, Beit Simchat Torah Scholar-in-Residence for Trans an
 d Queer Jewish Studies\, and Darren Sukonick\, Holy Blossom Vice President
 \, UJA Federation Board Member\, and CHAT and Young Judaea alumnus.\n\nRab
 bi Moskowitz’s new book\, Textual Activism\, will be available for purch
 ase and signing. Dessert reception will follow for all.
DTSTART;TZID=America/Toronto:20191107T073000
DTEND;TZID=America/Toronto:20191107T093000
END:VEVENT
END:VCALENDAR
