BEGIN:VCALENDAR
PRODID:-//eluceo/ical//2.0/EN
VERSION:2.0
CALSCALE:GREGORIAN
BEGIN:VEVENT
UID:d031e107545c16de0d813806ff0dc5c8
DTSTAMP:20260423T185726Z
SUMMARY:TEMPLE TOTS AT TEMPLE HAR ZION
DESCRIPTION:UJA Federation of Greater Toronto\nJewish Toronto Calendar\nhtt
 ps://jewishtoronto.com/calendar/temple-tots-at-temple-har-zion-1452532369\
 n\nRock Shabbat with your little ones to a Shabbat journey filled with fun
 \, music and adventure for kids aged 2 - 5 years. The children will enjoy 
 crafts\, a kid-friendly sanctuary service and blessings\, blessings\, bles
 sings!!!!
DTSTART;TZID=America/Toronto:20160130T090000
DTEND;TZID=America/Toronto:20160130T120000
END:VEVENT
END:VCALENDAR
