BEGIN:VCALENDAR
PRODID:-//eluceo/ical//2.0/EN
VERSION:2.0
CALSCALE:GREGORIAN
BEGIN:VEVENT
UID:557d285d770c41de0444b457b8faaed4
DTSTAMP:20260421T113517Z
SUMMARY:Temple Sinai’s Ugliest Chanukkah Sweater Contest
DESCRIPTION:UJA Federation of Greater Toronto\nJewish Toronto Calendar\nhtt
 ps://jewishtoronto.com/calendar/temple-sinais-ugliest-chanukkah-sweater-co
 ntest-1606827146\n\nTemple Sinai’s Ugliest Chanukkah Sweater Contest Thu
 rsday\, December 10 to Friday\, December 18 We are celebrating the eight d
 ays of Chanukkah in style . . . ugly style that is. Every day from Decembe
 r 10 to 18\, you can submit a photo of you or your family in the first-eve
 r Temple Sinai Ugliest Chanukkah Sweater Contest and win great prizes! For
  contest rules and to register go to https://templesinai.net/ugly-sweater/
 . For a complete listing of our programs visit templesinai.net/worship/cha
 nu...
DTSTART;TZID=America/Toronto:20201210T090000
DTEND;TZID=America/Toronto:20201210T160000
END:VEVENT
END:VCALENDAR
