BEGIN:VCALENDAR
PRODID:-//eluceo/ical//2.0/EN
VERSION:2.0
CALSCALE:GREGORIAN
BEGIN:VEVENT
UID:224b03335b8fd0dfe43bc1da6d06f5ee
DTSTAMP:20260420T144202Z
SUMMARY:Temple Sinai’s Shalom Tu B’Av
DESCRIPTION:UJA Federation of Greater Toronto\nJewish Toronto Calendar\nhtt
 ps://jewishtoronto.com/calendar/temple-sinais-shalom-tu-bav-1720710387\n\n
 Temple Sinai’s Shalom Tu B’Av\nFriday August 16\n\nIn preparation for 
 Shabbat Around The World\, join us for a special edition of Remote Shalom 
 with our sister congregation in Beer Sheva\, Ramot Shalom.\n\nReaching out
  over our livestream\, from Toronto to Beer Sheva and beyond\, together we
 'll engage in learning\,\nconversation\, connect\, catch up with one anoth
 er\, and exchange greetings for\nTu B'Av\, sometimes called\n\nIsrael's va
 lentine's day-- a day which celebrates love and Jewish joy.
DTSTART;TZID=America/Toronto:20240816T093000
DTEND;TZID=America/Toronto:20240816T103000
END:VEVENT
END:VCALENDAR
