BEGIN:VCALENDAR
PRODID:-//eluceo/ical//2.0/EN
VERSION:2.0
CALSCALE:GREGORIAN
BEGIN:VEVENT
UID:87cacdba7e41ea15892ca0e706a0e251
DTSTAMP:20260422T102047Z
SUMMARY:Temple Sinai’s Seventh Day Pesach Service with Yizkor
DESCRIPTION:UJA Federation of Greater Toronto\nJewish Toronto Calendar\nhtt
 ps://jewishtoronto.com/calendar/temple-sinais-seventh-day-pesach-service-w
 ith-yizkor-1649178676\n\nTemple Sinai’s Seventh Day Pesach Service with 
 Yizkor Friday\, April 22 at 10:00 a.m. In-person and virtual serviceWe wel
 come those who are fully vaccinated to join our services in the Sanctuary.
  For more information and to register please complete the online screening
  form at www.templesinai.net or call the Temple office at 416-487-4161.
DTSTART;TZID=America/Toronto:20220422T100000
DTEND;TZID=America/Toronto:20220422T113000
END:VEVENT
END:VCALENDAR
