BEGIN:VCALENDAR
PRODID:-//eluceo/ical//2.0/EN
VERSION:2.0
CALSCALE:GREGORIAN
BEGIN:VEVENT
UID:93be283d6e73d22f55040f729efc942a
DTSTAMP:20260419T193000Z
SUMMARY:Temple Sinai's Out of the Cold Program!
DESCRIPTION:UJA Federation of Greater Toronto\nJewish Toronto Calendar\nhtt
 ps://jewishtoronto.com/calendar/temple-sinais-out-of-the-cold-program-1739
 221511\n\nTemple Sinai: Help Us Launch Our Out of the Cold Program!\nMonda
 y\, March 24\nWe are excited to announce the launch of our new Out of the 
 Cold program at Temple Sinai! On March 24\, we will host our very first Ou
 t of the Cold dinners\, providing warmth\, meals\, and support to those in
  need within our community.\n\nThis program is an opportunity to make a me
 aningful difference\, and we need your help! We are looking for volunteers
  to join us in a variety of ways:\n\n✅ Prepare food at home to cont...
DTSTART;TZID=America/Toronto:20250324T170000
DTEND;TZID=America/Toronto:20250324T183000
END:VEVENT
END:VCALENDAR
