BEGIN:VCALENDAR
PRODID:-//eluceo/ical//2.0/EN
VERSION:2.0
CALSCALE:GREGORIAN
BEGIN:VEVENT
UID:1df8d8d02cb7184bf2203a4009350426
DTSTAMP:20260423T215045Z
SUMMARY:Temple Sinai's Out of the Cold Program!
DESCRIPTION:UJA Federation of Greater Toronto\nJewish Toronto Calendar\nhtt
 ps://jewishtoronto.com/calendar/temple-sinais-out-of-the-cold-program-1739
 221350\n\nTemple Sinai: Help Us Launch Our Out of the Cold Program!\nMonda
 y\, February 24\n\nWe are excited to announce the launch of our new Out of
  the Cold program at Temple Sinai! On February 24 and March 24\, we will h
 ost our very first Out of the Cold dinners\, providing warmth\, meals\, an
 d support to those in need within our community.\n\nThis program is an opp
 ortunity to make a meaningful difference\, and we need your help! We are l
 ooking for volunteers to join us in a variety of ways:\n\n✅ Prepare...
DTSTART;TZID=America/Toronto:20250224T170000
DTEND;TZID=America/Toronto:20250224T183000
END:VEVENT
END:VCALENDAR
