BEGIN:VCALENDAR
PRODID:-//eluceo/ical//2.0/EN
VERSION:2.0
CALSCALE:GREGORIAN
BEGIN:VEVENT
UID:d4eb552383dd10670ae227756f99c2ac
DTSTAMP:20260421T170500Z
SUMMARY:Temple Sinai’s Mitzvah & Music Summer Jam
DESCRIPTION:UJA Federation of Greater Toronto\nJewish Toronto Calendar\nhtt
 ps://jewishtoronto.com/calendar/temple-sinais-nextgen-under-the-stars-summ
 er-jam-concert-1720017914\n\nTemple Sinai’s Mitzvah & Music Summer Jam\n
 \nIN-PERSON\n\nMitzvah & Music:\n\nSummer Jam\n\nMonday\, July 29 at 6.30 
 p.m.\n\n \n\nWe invite Temple Sinai families and friends to join us for a
  two-part summer evening program. Meet us at Earl Bales Park where we’ll
  assemble sandwiches for our weekly Tikkun Olam contribution program par
 tner Seeds of Hope.\n\n \n\nFollowing the mitzvah of supporting the un
 housed\, we’ll enjoy a summer hangout together at the Summer Jam concert
  under the...
DTSTART;TZID=America/Toronto:20240729T183000
DTEND;TZID=America/Toronto:20240729T210000
END:VEVENT
END:VCALENDAR
