BEGIN:VCALENDAR
PRODID:-//eluceo/ical//2.0/EN
VERSION:2.0
CALSCALE:GREGORIAN
BEGIN:VEVENT
UID:df7884c62ccfe488f71760dfe054be08
DTSTAMP:20260422T022332Z
SUMMARY:Temple Sinai's Next Generation Virtual Shabbat Candle Lighting
DESCRIPTION:UJA Federation of Greater Toronto\nJewish Toronto Calendar\nhtt
 ps://jewishtoronto.com/calendar/temple-sinais-next-generation-virtual-shab
 bat-candle-lighting-1610735210\n\nA Temple Sinai Program: Next Generation 
 (20’s and 30’s) Virtual Shabbat Candle Lighting Friday\, January 29 at
  7.00 p.m.Join Rabbi Shaner and other young professionals for this opportu
 nity to connect\, reflect\, and welcome Shabbat together. We'll gather on 
 zoom for half an hour\, relax at the end of a long week\, reflect on a mea
 ningful topic\, and conclude by lighting the Shabbat candles. Register onl
 ine at www.templesinai.net\, call the Temple Office at 416-487-4161 or ema
 il programs@templesi...
DTSTART;TZID=America/Toronto:20210129T190000
DTEND;TZID=America/Toronto:20210129T193000
END:VEVENT
END:VCALENDAR
