BEGIN:VCALENDAR
PRODID:-//eluceo/ical//2.0/EN
VERSION:2.0
CALSCALE:GREGORIAN
BEGIN:VEVENT
UID:2cff641684274cf91738ff339b22c8d3
DTSTAMP:20260425T235125Z
SUMMARY:Temple Sinai’s Light up the Night – Drive-In Chanukkiyah Lighti
 ng
DESCRIPTION:UJA Federation of Greater Toronto\nJewish Toronto Calendar\nhtt
 ps://jewishtoronto.com/calendar/temple-sinais-light-up-the-night--drive-in
 -chanukkiyah-lighting-1606827535\n\nTemple Sinai’s Light up the Night 
 – Drive-In Chanukkiyah Lighting  Thursday\, December 10 at 5.00 p.m. to 
 6.00 p.m. Join us for an extraordinary first night of Chanukkah as we meet
  in the Temple Sinai parking lot\, in our cars\, for a special lighting of
  the Chanukkiyah. Sing songs with our clergy and help us spread the light 
 of the festival. We will be broadcasting over FM radio\; tune in and sing 
 along. All Temple programs follow social distancing and gather guidelines.
  To register\, https:/...
DTSTART;TZID=America/Toronto:20201210T170000
DTEND;TZID=America/Toronto:20201210T180000
END:VEVENT
END:VCALENDAR
