BEGIN:VCALENDAR
PRODID:-//eluceo/ical//2.0/EN
VERSION:2.0
CALSCALE:GREGORIAN
BEGIN:VEVENT
UID:7d5269de234c0b7b43ae088052bb20e6
DTSTAMP:20260424T003102Z
SUMMARY:Temple Sinai’s First Day Pesach Service
DESCRIPTION:UJA Federation of Greater Toronto\nJewish Toronto Calendar\nhtt
 ps://jewishtoronto.com/calendar/temple-sinais-first-day-pesach-service-164
 9178344\n\nTemple Sinai’s First Day Pesach Service Saturday\, April 16 a
 t 10:00 a.m. In-person and virtual serviceWe welcome those who are fully v
 accinated to join our services in the Sanctuary. For more information and 
 to register please complete the online screening form at www.templesinai.n
 et or call the Temple office at 416-487-4161.
DTSTART;TZID=America/Toronto:20220416T100000
DTEND;TZID=America/Toronto:20220416T113000
END:VEVENT
END:VCALENDAR
