BEGIN:VCALENDAR
PRODID:-//eluceo/ical//2.0/EN
VERSION:2.0
CALSCALE:GREGORIAN
BEGIN:VEVENT
UID:8d1447f6495223871f17c86a49b51737
DTSTAMP:20260422T132006Z
SUMMARY:Temple Sinai’s Family Chanukkah Baking Party: Healthy Donuts!
DESCRIPTION:UJA Federation of Greater Toronto\nJewish Toronto Calendar\nhtt
 ps://jewishtoronto.com/calendar/temple-sinais-family-chanukkah-baking-part
 y-healthy-donuts-1606828531\n\nTemple Sinai’s Family Chanukkah Baking Pa
 rty: Healthy Donuts! Wednesday\, December 16 at 6.30 p.m.  Join other Temp
 le Sinai families for a fun evening of baking donuts using nutritious and 
 delicious ingredients. Temple Sinai member and parent\, Alison Burke\, wil
 l lead this hands-on cooking program to celebrate the joy of Chanukkah wit
 h a nutritional twist on a festival food favourite\, donuts! Once register
 ed\, families will receive the Zoom link\, an ingredient list and instruct
 ions prior to th...
DTSTART;TZID=America/Toronto:20201216T183000
DTEND;TZID=America/Toronto:20201216T193000
END:VEVENT
END:VCALENDAR
