BEGIN:VCALENDAR
PRODID:-//eluceo/ical//2.0/EN
VERSION:2.0
CALSCALE:GREGORIAN
BEGIN:VEVENT
UID:a493c649f0218da511882f85c68bc784
DTSTAMP:20260420T102415Z
SUMMARY:Temple Sinai’s Chanukkah Celebration with friends Judy and David
DESCRIPTION:UJA Federation of Greater Toronto\nJewish Toronto Calendar\nhtt
 ps://jewishtoronto.com/calendar/temple-sinais-chanukkah-celebration-with-f
 riends-judy-and-david-1636742778\n\nFriday\, November 26 at 5.00 p.m. Temp
 le Sinai’s Virtual Family Chanukkah Celebration with friends Judy and Da
 vidA musical\, magical\, mighty Maccabee-filled Chanukkah story extravagan
 za for the whole family! Join along with our clergy and special guests\, J
 udy and David\, for dreidel spinning and sing-alongs as we tell the story 
 of how the Maccabees stood up for what’s right.For more information and 
 to register visit our website at https://templesinai.net/worship/chanukkah
 -2021/ or call the T...
DTSTART;TZID=America/Toronto:20211126T170000
DTEND;TZID=America/Toronto:20211126T190000
END:VEVENT
END:VCALENDAR
