BEGIN:VCALENDAR
PRODID:-//eluceo/ical//2.0/EN
VERSION:2.0
CALSCALE:GREGORIAN
BEGIN:VEVENT
UID:cf4ab295d14e66459ab3830387d310d1
DTSTAMP:20260423T102534Z
SUMMARY:Temple Sinai’s “Bridging the Gap”: Respectful Dialogue on Isr
 ael-Palestine
DESCRIPTION:UJA Federation of Greater Toronto\nJewish Toronto Calendar\nhtt
 ps://jewishtoronto.com/calendar/temple-sinais-bridging-the-gap-respectful-
 dialogue-on-israel-palestine-1739888907\n\nTemple Sinai’s “Bridging th
 e Gap”: Fostering Respectful Dialogue on Israel-Palestine - A Panel Disc
 ussion (In-Person)\nSunday\, March 16 from 7:30pm to 9:00pm\n\nIn partners
 hip with Ha’ikar and Temple Har Zion\, please join us for a panel discus
 sion\, featuring the York University group "Bridging the Gap."\n\nThis stu
 dent dialogue group was formed by Israeli/Jewish and Palestinian/Arab York
  University students with the purpose of sharing multiple perspectives in 
 a respectful manner. “B...
DTSTART;TZID=America/Toronto:20250316T193000
DTEND;TZID=America/Toronto:20250316T210000
END:VEVENT
END:VCALENDAR
