BEGIN:VCALENDAR
PRODID:-//eluceo/ical//2.0/EN
VERSION:2.0
CALSCALE:GREGORIAN
BEGIN:VEVENT
UID:416a6a30467552940c4c2114e6d4cd8b
DTSTAMP:20260419T153139Z
SUMMARY:Temple Sinai’s Book Break: Red Balcony (In-Person Only)
DESCRIPTION:UJA Federation of Greater Toronto\nJewish Toronto Calendar\nhtt
 ps://jewishtoronto.com/calendar/temple-sinais-book-break-red-balcony-in-pe
 rson-only-1712944075\n\nTemple Sinai’s Book Break: Red Balcony (In-Perso
 n Only) Wednesday\, May 8 from 7.30 p.m. to 9.00 p.m.Join us in-person for
  the spring edition of our Book Break series! In conversation with author\
 , Jonathan Wilson\, we’ll discuss “The Red Balcony”\, an extraordina
 ry\, character-driven\, flat-out page turner. Based on actual events\, imm
 erse yourself in a legal drama that mixes intrigue\, romance\, and 1930s r
 ealpolitik\, in the tinder box of British Mandatory Palestine.Register htt
 ps://rebrand....
DTSTART;TZID=America/Toronto:20240508T193000
DTEND;TZID=America/Toronto:20240508T213000
END:VEVENT
END:VCALENDAR
