BEGIN:VCALENDAR
PRODID:-//eluceo/ical//2.0/EN
VERSION:2.0
CALSCALE:GREGORIAN
BEGIN:VEVENT
UID:0c0ee753de6ccacb8936281a47207a87
DTSTAMP:20260422T195022Z
SUMMARY:Temple Sinai’s Book Break – Nora Gold (In-person)
DESCRIPTION:UJA Federation of Greater Toronto\nJewish Toronto Calendar\nhtt
 ps://jewishtoronto.com/calendar/temple-sinais-book-break--nora-gold-in-per
 son-1724598082\n\nTemple Sinai’s Book Break – Nora Gold (In-person) Mo
 nday\, September 16 from 7.00 pm to 9.30 pmJoin us for the kick-off to our
  2024-2025 Book Break series\, leading off with a discussion and review of
  multi-award-winning author Nora Gold's two novellas\, In Sickness and In 
 Health and Yom Kippur in a Gym.Registration: https://rebrand.ly/tsct-bb-no
 ragold
DTSTART;TZID=America/Toronto:20240916T190000
DTEND;TZID=America/Toronto:20240916T210000
END:VEVENT
END:VCALENDAR
