BEGIN:VCALENDAR
PRODID:-//eluceo/ical//2.0/EN
VERSION:2.0
CALSCALE:GREGORIAN
BEGIN:VEVENT
UID:d12497047aa4347ccdfbeb420baa9289
DTSTAMP:20260422T182518Z
SUMMARY:Temple Sinai’s Adult Hebrew Academy with Carmella Cohen
DESCRIPTION:UJA Federation of Greater Toronto\nJewish Toronto Calendar\nhtt
 ps://jewishtoronto.com/calendar/temple-sinais-adult-hebrew-academy-with-ca
 rmella-cohen-1666707381\n\nTemple Sinai’s Adult Hebrew Academy with Carm
 ella Cohen Virtual Sha-at Ivrit: Adult Hebrew Academy with Carmella Cohen 
 Learn prayer-based Hebrew with a welcoming community of learners.INTERMEDI
 ATE Mondays at 11.00 a.m. October 24 – December 26 Increase your profici
 ency in reading with accuracy and fluency of the Shabbat morning prayers.C
 OST  Members: No Charge  Non-members: $100  BEGINNERS: $50 for materials (
 one time fee)A link to the program will be sent once registration is compl
 ete. F...
DTSTART;TZID=America/Toronto:20221024T110000
DTEND;TZID=America/Toronto:20221024T120000
END:VEVENT
END:VCALENDAR
