BEGIN:VCALENDAR
PRODID:-//eluceo/ical//2.0/EN
VERSION:2.0
CALSCALE:GREGORIAN
BEGIN:VEVENT
UID:87548b786873a7938c8e7d5dd4a588ef
DTSTAMP:20260420T102531Z
SUMMARY:Temple Sinai's - A Very Disney Purim with Havdalah Ceremony
DESCRIPTION:UJA Federation of Greater Toronto\nJewish Toronto Calendar\nhtt
 ps://jewishtoronto.com/calendar/temple-sinais---a-very-disney-purim-with-h
 avdalah-ceremony-1582739794\n\nA Temple Sinai Program: A Very Disney Purim
  with a Special Havdalah Ceremony\n\nFun for all ages! Come dressed as you
 r favourite Disney character. Enjoy a Magical Fire and Ice show by Mad Sci
 ence\; character photo opportunity\; Disney bouncy castle\; super crafts a
 nd fun games and face painting. Pizza\, drinks and snacks available for pu
 rchase. Cost: Members: $10 per family\; Non-members: $15 per family (Famil
 y = 2 adults + 4 children). Please notify us of any severe food allergies.
  We are a scent se...
DTSTART;TZID=America/Toronto:20200307T163000
DTEND;TZID=America/Toronto:20200307T183000
END:VEVENT
END:VCALENDAR
