BEGIN:VCALENDAR
PRODID:-//eluceo/ical//2.0/EN
VERSION:2.0
CALSCALE:GREGORIAN
BEGIN:VEVENT
UID:a42b679955d94d601ab0094b573b0346
DTSTAMP:20260423T174906Z
SUMMARY:Temple Sinai Young Families Pre-Pesach Shabbat Mishpachah
DESCRIPTION:UJA Federation of Greater Toronto\nJewish Toronto Calendar\nhtt
 ps://jewishtoronto.com/calendar/temple-sinai-young-families-pre-pesach-sha
 bbat-mishpachah-1649178012\n\nTemple Sinai Young Families Pre-Pesach Shabb
 at Mishpachah Apples ‘n’ Spice and Everything Nice!  Friday\, April 8 
 at 5.00 p.m. Join us virtually on this last Shabbat before Pesach for a fa
 mily charoset cooking class from the comfort of your kitchen. While charos
 et is a Passover favourite for many\, have you ever tried recipes from dif
 ferent traditions? Or added new flavours to the traditional dish?We will w
 elcome Shabbat and get cooking with Rabbi Jordan Shaner and Temple Sinai m
 ember Aliso...
DTSTART;TZID=America/Toronto:20220408T170000
DTEND;TZID=America/Toronto:20220408T180000
END:VEVENT
END:VCALENDAR
