BEGIN:VCALENDAR
PRODID:-//eluceo/ical//2.0/EN
VERSION:2.0
CALSCALE:GREGORIAN
BEGIN:VEVENT
UID:e01e6bc9330ef8e262d77d7259631a18
DTSTAMP:20260425T235145Z
SUMMARY:Temple Sinai YOUNG FAMILIES Circle Time Shabbat
DESCRIPTION:UJA Federation of Greater Toronto\nJewish Toronto Calendar\nhtt
 ps://jewishtoronto.com/calendar/temple-sinai-young-families-circle-time-sh
 abbat-1671810626\n\nTemple Sinai YOUNG FAMILIES Circle Time Shabbat Saturd
 ay\, January 14 from 10.00 a.m. to 12.00 p.m. Save the date! Saturday\, Fe
 bruary 11\, March 18 and April 1We're excited to launch our enriching and 
 nurturing Jewish program for children ages to 8 years old on Saturday morn
 ings at Temple Sinai once a month.Program includes arts and crafts\, snack
 \, Suzuki ECE music class\, story time with the Rabbi\, a special inclusio
 n in the Saturday Shabbat service on the bimah and lunch afterwards for th
 e whol...
DTSTART;TZID=America/Toronto:20230114T100000
DTEND;TZID=America/Toronto:20230114T120000
END:VEVENT
END:VCALENDAR
