BEGIN:VCALENDAR
PRODID:-//eluceo/ical//2.0/EN
VERSION:2.0
CALSCALE:GREGORIAN
BEGIN:VEVENT
UID:2e69cf8d3b0f71d95c4807c7b75eb759
DTSTAMP:20260423T092401Z
SUMMARY:Temple Sinai Young Families: Circle Time & Big Kid Blessings Shabba
 t
DESCRIPTION:UJA Federation of Greater Toronto\nJewish Toronto Calendar\nhtt
 ps://jewishtoronto.com/calendar/temple-sinai-young-families-circle-time--b
 ig-kid-blessings-shabbat-1683050197\n\nTemple Sinai Young Families: Circle
  Time & Big Kid Blessings Shabbat Saturday\, May 6 at 10.00 a.m.Come for a
  special Circle Time Shabbat as we welcome children between 5-8 years old 
 to join in for “Big Kid Blessings”. Includes arts and crafts\, snack\,
  Suzuki ECE music class\, story time with the Rabbi\, and special inclusio
 n in the Shabbat Morning service on the bimah followed by lunch for the wh
 ole family.Children 0-4 must be accompanied by parent or caregiver.For mor
 e information and to re...
DTSTART;TZID=America/Toronto:20230506T100000
DTEND;TZID=America/Toronto:20230506T113000
END:VEVENT
END:VCALENDAR
