BEGIN:VCALENDAR
PRODID:-//eluceo/ical//2.0/EN
VERSION:2.0
CALSCALE:GREGORIAN
BEGIN:VEVENT
UID:6e185b72eebd4f7a5543137d609d94f7
DTSTAMP:20260422T171314Z
SUMMARY:Temple Sinai Yom Kippur Day - Yizkor & Ne’ilah Service
DESCRIPTION:UJA Federation of Greater Toronto\nJewish Toronto Calendar\nhtt
 ps://jewishtoronto.com/calendar/temple-sinai-yom-kippur-day---yizkor--neil
 ah-service-1724599819\n\nTemple Sinai Yom Kippur Day - Yizkor & Ne’ilah 
 Service Saturday\, October 12 from 5.00 pm – 7.00 pmA powerful and meani
 ngful meditation on our past and present as we prepare to fully embrace th
 e New Year. Featuring violinists Moshe Hammer and Noa Sarid\, this unique 
 service includes music composed by Cantor Osborne\, along with poetry and 
 prose by Rich Orloff.Register https://rebrand.ly/tsct-ykyn5785
DTSTART;TZID=America/Toronto:20241012T170000
DTEND;TZID=America/Toronto:20241012T190000
END:VEVENT
END:VCALENDAR
