BEGIN:VCALENDAR
PRODID:-//eluceo/ical//2.0/EN
VERSION:2.0
CALSCALE:GREGORIAN
BEGIN:VEVENT
UID:aace6bf021bae87eced2cd1c06dee19d
DTSTAMP:20260422T104005Z
SUMMARY:Temple Sinai Yom HaShoah Boker Tov
DESCRIPTION:UJA Federation of Greater Toronto\nJewish Toronto Calendar\nhtt
 ps://jewishtoronto.com/calendar/temple-sinai-yom-hashoah-boker-tov-1616784
 526\n\nTemple Sinai Yom HaShoah Boker Tov Thursday\, April 8 at 8.30 a.m. 
 Join Rabbi Michael Dolgin and Cantor Sharon Brown-Levy for a special morni
 ng commemoration for Yom HaShoah. Register online at https://gazelle.zoom.
 us/webinar/register/WN_h6IDlfyNTxGS6hPdFKlmhw\, call the Temple office at 
 416-487-4161 or email programs@templesinai.net.
DTSTART;TZID=America/Toronto:20210408T083000
DTEND;TZID=America/Toronto:20210408T090000
END:VEVENT
END:VCALENDAR
