BEGIN:VCALENDAR
PRODID:-//eluceo/ical//2.0/EN
VERSION:2.0
CALSCALE:GREGORIAN
BEGIN:VEVENT
UID:76d7bab1157bcbd32a4a518fe6a1932d
DTSTAMP:20260422T205153Z
SUMMARY:Temple Sinai: We’re going on a Purim Adventure
DESCRIPTION:UJA Federation of Greater Toronto\nJewish Toronto Calendar\nhtt
 ps://jewishtoronto.com/calendar/temple-sinai-were-going-on-a-purim-adventu
 re-1515196826\n\nA Temple Sinai Young Families Program: We’re going on a
  Purim Adventure\n\nCome dressed as your favourite storybook or Purim char
 acter! Grab a blank megillah and choose your own adventure. Receive megill
 ah pieces at the activity stations. Create your own Purim story. Bouncy ca
 stle\, photo booth\, face painting\, hamantaschen decorating\, games and p
 rizes and so much more! Pizza\, cotton candy\, drinks and guessing game ti
 ckets are available to purchase. Time: 10:00 a.m. to Noon. Cost: Member fa
 mi...
DTSTART;TZID=America/Toronto:20180225T100000
DTEND;TZID=America/Toronto:20180225T120000
END:VEVENT
END:VCALENDAR
